BEGIN:VCALENDAR
VERSION:2.0
PRODID:-//wp-events-plugin.com//7.2.3.1//EN
TZID:Europe/Berlin
X-WR-TIMEZONE:Europe/Berlin
BEGIN:VEVENT
UID:36@tus-05-daun.de
DTSTART;TZID=Europe/Berlin:20241110T110000
DTEND;TZID=Europe/Berlin:20241110T170000
DTSTAMP:20241019T104744Z
URL:https://tus-05-daun.de/events/tag-des-kinderturnens-2/
SUMMARY:Tag des Kinderturnens
DESCRIPTION:TdK_2024_Flyer
LOCATION:Grundschulhalle neu\, Freiherr von Stein Str. 3\, Daun\, 54550\, D
 eutschland
X-APPLE-STRUCTURED-LOCATION;VALUE=URI;X-ADDRESS=Freiherr von Stein Str. 3\,
  Daun\, 54550\, Deutschland;X-APPLE-RADIUS=100;X-TITLE=Grundschulhalle neu
 :geo:0,0
END:VEVENT
BEGIN:VTIMEZONE
TZID:Europe/Berlin
X-LIC-LOCATION:Europe/Berlin
BEGIN:STANDARD
DTSTART:20241027T020000
TZOFFSETFROM:+0200
TZOFFSETTO:+0100
TZNAME:CET
END:STANDARD
END:VTIMEZONE
END:VCALENDAR